BEGIN:VCALENDAR
VERSION:2.0
PRODID:-//Museumswelten Hohe Tauern - ECPv6.15.6//NONSGML v1.0//EN
CALSCALE:GREGORIAN
METHOD:PUBLISH
X-ORIGINAL-URL:https://www.museumswelten-hohetauern.at
X-WR-CALDESC:Veranstaltungen für Museumswelten Hohe Tauern
REFRESH-INTERVAL;VALUE=DURATION:PT1H
X-Robots-Tag:noindex
X-PUBLISHED-TTL:PT1H
BEGIN:VTIMEZONE
TZID:Europe/Vienna
BEGIN:DAYLIGHT
TZOFFSETFROM:+0100
TZOFFSETTO:+0200
TZNAME:CEST
DTSTART:20240331T010000
END:DAYLIGHT
BEGIN:STANDARD
TZOFFSETFROM:+0200
TZOFFSETTO:+0100
TZNAME:CET
DTSTART:20241027T010000
END:STANDARD
BEGIN:DAYLIGHT
TZOFFSETFROM:+0100
TZOFFSETTO:+0200
TZNAME:CEST
DTSTART:20250330T010000
END:DAYLIGHT
BEGIN:STANDARD
TZOFFSETFROM:+0200
TZOFFSETTO:+0100
TZNAME:CET
DTSTART:20251026T010000
END:STANDARD
BEGIN:DAYLIGHT
TZOFFSETFROM:+0100
TZOFFSETTO:+0200
TZNAME:CEST
DTSTART:20260329T010000
END:DAYLIGHT
BEGIN:STANDARD
TZOFFSETFROM:+0200
TZOFFSETTO:+0100
TZNAME:CET
DTSTART:20261025T010000
END:STANDARD
END:VTIMEZONE
BEGIN:VEVENT
DTSTART;TZID=Europe/Vienna:20250107T190000
DTEND;TZID=Europe/Vienna:20250107T203000
DTSTAMP:20260425T145009
CREATED:20241222T113625Z
LAST-MODIFIED:20241222T113625Z
UID:7788-1736276400-1736281800@www.museumswelten-hohetauern.at
SUMMARY:Museumsstammtisch
DESCRIPTION:Der erste Museumsstammtisch im neuen Jahr findet am Dienstag\, 07.01.2025 um 19 Uhr im Felberturm Museum in Mittersill statt. \nDas Stadtarchiv Mittersill und wir laden Sie herzlich zum Vortrag von Mag. Eva Heitzinger-Weiser ein\, die über die Briefe und Berichte Pinzgauer Bezirksärzte in den Jahren 1800 bis 1850 erzählt.\nDanach bleibt natürlich wieder Zeit für spannende Diskussionen und Gespräche unter den TeilnehmerInnen. \nWir freuen uns auf Ihr Kommen!
URL:https://www.museumswelten-hohetauern.at/event/museumsstammtisch-6/
LOCATION:Felberturm Museum\, Museumstraße 2\, Mittersill\, Salzburg\, 5730\, Austria
CATEGORIES:Felberturm Museum
END:VEVENT
END:VCALENDAR