BEGIN:VCALENDAR
VERSION:2.0
PRODID:-//Museumswelten Hohe Tauern - ECPv6.15.6//NONSGML v1.0//EN
CALSCALE:GREGORIAN
METHOD:PUBLISH
X-ORIGINAL-URL:https://www.museumswelten-hohetauern.at
X-WR-CALDESC:Veranstaltungen für Museumswelten Hohe Tauern
REFRESH-INTERVAL;VALUE=DURATION:PT1H
X-Robots-Tag:noindex
X-PUBLISHED-TTL:PT1H
BEGIN:VTIMEZONE
TZID:Europe/Vienna
BEGIN:DAYLIGHT
TZOFFSETFROM:+0100
TZOFFSETTO:+0200
TZNAME:CEST
DTSTART:20240331T010000
END:DAYLIGHT
BEGIN:STANDARD
TZOFFSETFROM:+0200
TZOFFSETTO:+0100
TZNAME:CET
DTSTART:20241027T010000
END:STANDARD
BEGIN:DAYLIGHT
TZOFFSETFROM:+0100
TZOFFSETTO:+0200
TZNAME:CEST
DTSTART:20250330T010000
END:DAYLIGHT
BEGIN:STANDARD
TZOFFSETFROM:+0200
TZOFFSETTO:+0100
TZNAME:CET
DTSTART:20251026T010000
END:STANDARD
BEGIN:DAYLIGHT
TZOFFSETFROM:+0100
TZOFFSETTO:+0200
TZNAME:CEST
DTSTART:20260329T010000
END:DAYLIGHT
BEGIN:STANDARD
TZOFFSETFROM:+0200
TZOFFSETTO:+0100
TZNAME:CET
DTSTART:20261025T010000
END:STANDARD
END:VTIMEZONE
BEGIN:VEVENT
DTSTART;TZID=Europe/Vienna:20250111T193000
DTEND;TZID=Europe/Vienna:20250111T213000
DTSTAMP:20260425T175406
CREATED:20250107T130757Z
LAST-MODIFIED:20250107T130910Z
UID:7842-1736623800-1736631000@www.museumswelten-hohetauern.at
SUMMARY:Neujahrskonzert mit dem Tyrol Music Project
DESCRIPTION:Am Samstag\, 11. Jänner dürfen wir im Samerstall in Niedernsill das wohl kleinste Symphonieorchester der Welt begrüßen – Tyrol Music Project. Die 4 Künstler präsentieren auf Geige\, Akkordeon\, Gitarre und Kontrabass ein abwechslungsreiches Neujahrskonzert. \nDer Eintritt beträgt 19 €\, wir bitten um Kartenreservierung bei Horst Klinger unter\nhorstklinger00@gmail.com oder Tel. 0043 650 710 66 27 \nWir freuen uns auf Ihren Besuch!
URL:https://www.museumswelten-hohetauern.at/event/neujahrskonzert-mit-dem-tyrol-music-project/
LOCATION:Samerstall Niedernsill\, Kirchgasse 1\, Niedernsill\, 5722
CATEGORIES:Norikermuseum,Samerstall
END:VEVENT
END:VCALENDAR