BEGIN:VCALENDAR
VERSION:2.0
PRODID:-//Museumswelten Hohe Tauern - ECPv6.15.6//NONSGML v1.0//EN
CALSCALE:GREGORIAN
METHOD:PUBLISH
X-WR-CALNAME:Museumswelten Hohe Tauern
X-ORIGINAL-URL:https://www.museumswelten-hohetauern.at
X-WR-CALDESC:Veranstaltungen für Museumswelten Hohe Tauern
REFRESH-INTERVAL;VALUE=DURATION:PT1H
X-Robots-Tag:noindex
X-PUBLISHED-TTL:PT1H
BEGIN:VTIMEZONE
TZID:Europe/Vienna
BEGIN:DAYLIGHT
TZOFFSETFROM:+0100
TZOFFSETTO:+0200
TZNAME:CEST
DTSTART:20240331T010000
END:DAYLIGHT
BEGIN:STANDARD
TZOFFSETFROM:+0200
TZOFFSETTO:+0100
TZNAME:CET
DTSTART:20241027T010000
END:STANDARD
BEGIN:DAYLIGHT
TZOFFSETFROM:+0100
TZOFFSETTO:+0200
TZNAME:CEST
DTSTART:20250330T010000
END:DAYLIGHT
BEGIN:STANDARD
TZOFFSETFROM:+0200
TZOFFSETTO:+0100
TZNAME:CET
DTSTART:20251026T010000
END:STANDARD
BEGIN:DAYLIGHT
TZOFFSETFROM:+0100
TZOFFSETTO:+0200
TZNAME:CEST
DTSTART:20260329T010000
END:DAYLIGHT
BEGIN:STANDARD
TZOFFSETFROM:+0200
TZOFFSETTO:+0100
TZNAME:CET
DTSTART:20261025T010000
END:STANDARD
END:VTIMEZONE
BEGIN:VEVENT
DTSTART;TZID=Europe/Vienna:20250206T193000
DTEND;TZID=Europe/Vienna:20250206T213000
DTSTAMP:20260426T001828
CREATED:20250123T072618Z
LAST-MODIFIED:20250123T072700Z
UID:7892-1738870200-1738877400@www.museumswelten-hohetauern.at
SUMMARY:Der lange Weg zur Bühne
DESCRIPTION:  \nDen langen Weg zur Bühne beschritten seit 2021 Michael Großschädl\, Martin Kosch\, Paul Sommersguter und Andi Peichl. Jetzt haben sie es auch zu uns geschafft und treffen am 06. Februar um 19:30 Uhr im Samerstall Niedernsill ein. \nKartenreservierung bei Horst Klinger unter: horstklinger00@gmail.com\, Tel. +43 650 710 66 27\nPreis: 19 € \nWir freuen uns auf Ihr Kommen! \n \n 
URL:https://www.museumswelten-hohetauern.at/event/der-lange-weg-zur-buehne/
LOCATION:Samerstall Niedernsill\, Kirchgasse 1\, Niedernsill\, 5722
CATEGORIES:Norikermuseum,Samerstall
END:VEVENT
END:VCALENDAR