BEGIN:VCALENDAR
VERSION:2.0
PRODID:-//Museumswelten Hohe Tauern - ECPv6.15.6//NONSGML v1.0//EN
CALSCALE:GREGORIAN
METHOD:PUBLISH
X-ORIGINAL-URL:https://www.museumswelten-hohetauern.at
X-WR-CALDESC:Veranstaltungen für Museumswelten Hohe Tauern
REFRESH-INTERVAL;VALUE=DURATION:PT1H
X-Robots-Tag:noindex
X-PUBLISHED-TTL:PT1H
BEGIN:VTIMEZONE
TZID:Europe/Vienna
BEGIN:DAYLIGHT
TZOFFSETFROM:+0100
TZOFFSETTO:+0200
TZNAME:CEST
DTSTART:20240331T010000
END:DAYLIGHT
BEGIN:STANDARD
TZOFFSETFROM:+0200
TZOFFSETTO:+0100
TZNAME:CET
DTSTART:20241027T010000
END:STANDARD
BEGIN:DAYLIGHT
TZOFFSETFROM:+0100
TZOFFSETTO:+0200
TZNAME:CEST
DTSTART:20250330T010000
END:DAYLIGHT
BEGIN:STANDARD
TZOFFSETFROM:+0200
TZOFFSETTO:+0100
TZNAME:CET
DTSTART:20251026T010000
END:STANDARD
BEGIN:DAYLIGHT
TZOFFSETFROM:+0100
TZOFFSETTO:+0200
TZNAME:CEST
DTSTART:20260329T010000
END:DAYLIGHT
BEGIN:STANDARD
TZOFFSETFROM:+0200
TZOFFSETTO:+0100
TZNAME:CET
DTSTART:20261025T010000
END:STANDARD
END:VTIMEZONE
BEGIN:VEVENT
DTSTART;TZID=Europe/Vienna:20250311T190000
DTEND;TZID=Europe/Vienna:20250311T203000
DTSTAMP:20260426T020540
CREATED:20250131T073117Z
LAST-MODIFIED:20250219T150632Z
UID:7909-1741719600-1741725000@www.museumswelten-hohetauern.at
SUMMARY:Museumsstammtisch
DESCRIPTION:Der März-Museumsstammtisch findet am Dienstag\, 11.03.2025 statt. \nDr. Josef Seifriedsberger hält einen Vortrag zum Thema „Ein Unglücksfall wird zur Sage“. Ausgehend von einem im Sterbebuch der Pfarre Bramberg im Jahr 1847 dokumentierten Unglücks verfolgen wir den Weg zu einer Sage. \n  \nWir freuen uns\, wenn wir viele Geschichtsinteressierte bei unserem monatlichen Museumsstammtisch begrüßen zu dürfen! \n 
URL:https://www.museumswelten-hohetauern.at/event/museumsstammtisch-8/
LOCATION:Felberturm Museum\, Museumstraße 2\, Mittersill\, Salzburg\, 5730\, Austria
CATEGORIES:Felberturm Museum
END:VEVENT
END:VCALENDAR