BEGIN:VCALENDAR
VERSION:2.0
PRODID:-//Museumswelten Hohe Tauern - ECPv6.15.6//NONSGML v1.0//EN
CALSCALE:GREGORIAN
METHOD:PUBLISH
X-ORIGINAL-URL:https://www.museumswelten-hohetauern.at
X-WR-CALDESC:Veranstaltungen für Museumswelten Hohe Tauern
REFRESH-INTERVAL;VALUE=DURATION:PT1H
X-Robots-Tag:noindex
X-PUBLISHED-TTL:PT1H
BEGIN:VTIMEZONE
TZID:Europe/Vienna
BEGIN:DAYLIGHT
TZOFFSETFROM:+0100
TZOFFSETTO:+0200
TZNAME:CEST
DTSTART:20240331T010000
END:DAYLIGHT
BEGIN:STANDARD
TZOFFSETFROM:+0200
TZOFFSETTO:+0100
TZNAME:CET
DTSTART:20241027T010000
END:STANDARD
BEGIN:DAYLIGHT
TZOFFSETFROM:+0100
TZOFFSETTO:+0200
TZNAME:CEST
DTSTART:20250330T010000
END:DAYLIGHT
BEGIN:STANDARD
TZOFFSETFROM:+0200
TZOFFSETTO:+0100
TZNAME:CET
DTSTART:20251026T010000
END:STANDARD
BEGIN:DAYLIGHT
TZOFFSETFROM:+0100
TZOFFSETTO:+0200
TZNAME:CEST
DTSTART:20260329T010000
END:DAYLIGHT
BEGIN:STANDARD
TZOFFSETFROM:+0200
TZOFFSETTO:+0100
TZNAME:CET
DTSTART:20261025T010000
END:STANDARD
END:VTIMEZONE
BEGIN:VEVENT
DTSTART;TZID=Europe/Vienna:20250320T190000
DTEND;TZID=Europe/Vienna:20250320T210000
DTSTAMP:20260426T020456
CREATED:20250213T144415Z
LAST-MODIFIED:20250213T144415Z
UID:7923-1742497200-1742504400@www.museumswelten-hohetauern.at
SUMMARY:Vortrag: Warum sind Medien für unsere Kinder so wichtig?
DESCRIPTION:Warum sind Medien für unsere Kinder so wichtig? \nDiese und weitere Fragen rund um die Nutzung von Medien speziell bei Kindern beantwortet Nicole Bodmayer\, BA am Donnerstag\, 20. März um 19 Uhr im Samerstall Niedernsill. \nWelche Hindernisse erwarten Kinder im Internet? Was sollten Eltern wissen?\nKinder und Online-Medien – das sorgt oft für Unsicherheit. „Medienmonsterjägerin“ Nicole Bodmayer nimmt Sie mit auf eine spannende Reise durch die digitale Welt und zeigt\, wie Sie Ihre Kinder oder Enkelkinder sicher\, sinnvoll und kompetent begleiten können. \nBesonders hilfreich: Auch Mag. Andrea Buchner\, MA\, MA vom Forum Familie wird vor Ort sein\, um individuelle Fragen zu beantworten und beratend zur Seite zu stehen. \nWir freuen uns auf Ihren Besuch!
URL:https://www.museumswelten-hohetauern.at/event/vortrag-warum-sind-medien-fuer-unsere-kinder-so-wichtig/
LOCATION:Samerstall Niedernsill\, Kirchgasse 1\, Niedernsill\, 5722
CATEGORIES:Norikermuseum,Samerstall
END:VEVENT
END:VCALENDAR