BEGIN:VCALENDAR
VERSION:2.0
PRODID:-//Museumswelten Hohe Tauern - ECPv6.15.6//NONSGML v1.0//EN
CALSCALE:GREGORIAN
METHOD:PUBLISH
X-WR-CALNAME:Museumswelten Hohe Tauern
X-ORIGINAL-URL:https://www.museumswelten-hohetauern.at
X-WR-CALDESC:Veranstaltungen für Museumswelten Hohe Tauern
REFRESH-INTERVAL;VALUE=DURATION:PT1H
X-Robots-Tag:noindex
X-PUBLISHED-TTL:PT1H
BEGIN:VTIMEZONE
TZID:Europe/Vienna
BEGIN:DAYLIGHT
TZOFFSETFROM:+0100
TZOFFSETTO:+0200
TZNAME:CEST
DTSTART:20240331T010000
END:DAYLIGHT
BEGIN:STANDARD
TZOFFSETFROM:+0200
TZOFFSETTO:+0100
TZNAME:CET
DTSTART:20241027T010000
END:STANDARD
BEGIN:DAYLIGHT
TZOFFSETFROM:+0100
TZOFFSETTO:+0200
TZNAME:CEST
DTSTART:20250330T010000
END:DAYLIGHT
BEGIN:STANDARD
TZOFFSETFROM:+0200
TZOFFSETTO:+0100
TZNAME:CET
DTSTART:20251026T010000
END:STANDARD
BEGIN:DAYLIGHT
TZOFFSETFROM:+0100
TZOFFSETTO:+0200
TZNAME:CEST
DTSTART:20260329T010000
END:DAYLIGHT
BEGIN:STANDARD
TZOFFSETFROM:+0200
TZOFFSETTO:+0100
TZNAME:CET
DTSTART:20261025T010000
END:STANDARD
END:VTIMEZONE
BEGIN:VEVENT
DTSTART;TZID=Europe/Vienna:20250402T190000
DTEND;TZID=Europe/Vienna:20250402T210000
DTSTAMP:20260426T020225
CREATED:20250325T102425Z
LAST-MODIFIED:20250325T102425Z
UID:7953-1743620400-1743627600@www.museumswelten-hohetauern.at
SUMMARY:Museumsstammtisch
DESCRIPTION:Diesmal findet der Museumsstammtisch am MITTWOCH\, 02. April 2025 statt! \nDer Pinzgauer Musiker Erwin Wieser erzählt von Sängern und Musikern im Pinzgau. Erleben Sie eine kleine\, historische Rundschau. \nWir freuen uns auf Ihr Kommen! \n 
URL:https://www.museumswelten-hohetauern.at/event/museumsstammtisch-9/
LOCATION:Felberturm Museum\, Museumstraße 2\, Mittersill\, Salzburg\, 5730\, Austria
CATEGORIES:Felberturm Museum
END:VEVENT
END:VCALENDAR