BEGIN:VCALENDAR
VERSION:2.0
PRODID:-//Museumswelten Hohe Tauern - ECPv6.15.6//NONSGML v1.0//EN
CALSCALE:GREGORIAN
METHOD:PUBLISH
X-ORIGINAL-URL:https://www.museumswelten-hohetauern.at
X-WR-CALDESC:Veranstaltungen für Museumswelten Hohe Tauern
REFRESH-INTERVAL;VALUE=DURATION:PT1H
X-Robots-Tag:noindex
X-PUBLISHED-TTL:PT1H
BEGIN:VTIMEZONE
TZID:Europe/Vienna
BEGIN:DAYLIGHT
TZOFFSETFROM:+0100
TZOFFSETTO:+0200
TZNAME:CEST
DTSTART:20240331T010000
END:DAYLIGHT
BEGIN:STANDARD
TZOFFSETFROM:+0200
TZOFFSETTO:+0100
TZNAME:CET
DTSTART:20241027T010000
END:STANDARD
BEGIN:DAYLIGHT
TZOFFSETFROM:+0100
TZOFFSETTO:+0200
TZNAME:CEST
DTSTART:20250330T010000
END:DAYLIGHT
BEGIN:STANDARD
TZOFFSETFROM:+0200
TZOFFSETTO:+0100
TZNAME:CET
DTSTART:20251026T010000
END:STANDARD
BEGIN:DAYLIGHT
TZOFFSETFROM:+0100
TZOFFSETTO:+0200
TZNAME:CEST
DTSTART:20260329T010000
END:DAYLIGHT
BEGIN:STANDARD
TZOFFSETFROM:+0200
TZOFFSETTO:+0100
TZNAME:CET
DTSTART:20261025T010000
END:STANDARD
END:VTIMEZONE
BEGIN:VEVENT
DTSTART;TZID=Europe/Vienna:20250506T190000
DTEND;TZID=Europe/Vienna:20250506T210000
DTSTAMP:20260426T051947
CREATED:20250428T172816Z
LAST-MODIFIED:20250428T172816Z
UID:7973-1746558000-1746565200@www.museumswelten-hohetauern.at
SUMMARY:Museumsstammtisch
DESCRIPTION:Am Dienstag\, 06. Mai laden das Stadtarchiv und wir Sie wieder zum Museumsstammtisch im Felberturm Museum Mittersill ein.\n\nFerdinand Lainer führt uns zurück in die Vergangenheit und erzählt vom Wasenmoos und dem historischen Torfstich.\n\n\n\nWir freuen uns auf Ihr Kommen und einen anschließenden gemütlichen Austausch.\n\n\n\n  \n 
URL:https://www.museumswelten-hohetauern.at/event/museumsstammtisch-10/
LOCATION:Felberturm Museum\, Museumstraße 2\, Mittersill\, Salzburg\, 5730\, Austria
CATEGORIES:Felberturm Museum
END:VEVENT
END:VCALENDAR