BEGIN:VCALENDAR
VERSION:2.0
PRODID:-//Museumswelten Hohe Tauern - ECPv6.15.6//NONSGML v1.0//EN
CALSCALE:GREGORIAN
METHOD:PUBLISH
X-WR-CALNAME:Museumswelten Hohe Tauern
X-ORIGINAL-URL:https://www.museumswelten-hohetauern.at
X-WR-CALDESC:Veranstaltungen für Museumswelten Hohe Tauern
REFRESH-INTERVAL;VALUE=DURATION:PT1H
X-Robots-Tag:noindex
X-PUBLISHED-TTL:PT1H
BEGIN:VTIMEZONE
TZID:Europe/Vienna
BEGIN:DAYLIGHT
TZOFFSETFROM:+0100
TZOFFSETTO:+0200
TZNAME:CEST
DTSTART:20250330T010000
END:DAYLIGHT
BEGIN:STANDARD
TZOFFSETFROM:+0200
TZOFFSETTO:+0100
TZNAME:CET
DTSTART:20251026T010000
END:STANDARD
BEGIN:DAYLIGHT
TZOFFSETFROM:+0100
TZOFFSETTO:+0200
TZNAME:CEST
DTSTART:20260329T010000
END:DAYLIGHT
BEGIN:STANDARD
TZOFFSETFROM:+0200
TZOFFSETTO:+0100
TZNAME:CET
DTSTART:20261025T010000
END:STANDARD
BEGIN:DAYLIGHT
TZOFFSETFROM:+0100
TZOFFSETTO:+0200
TZNAME:CEST
DTSTART:20270328T010000
END:DAYLIGHT
BEGIN:STANDARD
TZOFFSETFROM:+0200
TZOFFSETTO:+0100
TZNAME:CET
DTSTART:20271031T010000
END:STANDARD
END:VTIMEZONE
BEGIN:VEVENT
DTSTART;TZID=Europe/Vienna:20260425T193000
DTEND;TZID=Europe/Vienna:20260425T210000
DTSTAMP:20260424T134508
CREATED:20260408T141652Z
LAST-MODIFIED:20260409T081459Z
UID:8212-1777145400-1777150800@www.museumswelten-hohetauern.at
SUMMARY:Theater im Samerstall
DESCRIPTION:
URL:https://www.museumswelten-hohetauern.at/event/theater-im-samerstall/
LOCATION:Samerstall Niedernsill\, Kirchgasse 1\, Niedernsill\, 5722
CATEGORIES:Norikermuseum,Samerstall
ATTACH;FMTTYPE=image/jpeg:https://www.museumswelten-hohetauern.at/wp-content/uploads/2026/04/WhatsApp-Image-2026-04-08-at-16.07.59-e1775657994761.jpeg
END:VEVENT
BEGIN:VEVENT
DTSTART;TZID=Europe/Vienna:20260505T190000
DTEND;TZID=Europe/Vienna:20260505T210000
DTSTAMP:20260424T134508
CREATED:20260413T102753Z
LAST-MODIFIED:20260413T102753Z
UID:8245-1778007600-1778014800@www.museumswelten-hohetauern.at
SUMMARY:Museumsstammtisch
DESCRIPTION:Am Dienstag\, 05. Mai um 19:00 Uhr laden das Stadtarchiv Mittersill und das Felberturm Museum zum nächsten Museumsstammtisch ein: \n„St. Pöltner Ostweg“\nVortrag von Walter Reifmüller\n\nMit Lichtbildern vom hochalpinen Höhenweg von der Rudolfshütte am Weißsee bis zur St. Pöltner Hütte am Felber Tauern\n\nWir freuen uns auf Ihr Kommen!
URL:https://www.museumswelten-hohetauern.at/event/museumsstammtisch-19/
CATEGORIES:Felberturm Museum
ATTACH;FMTTYPE=image/jpeg:https://www.museumswelten-hohetauern.at/wp-content/uploads/2026/04/Plakat-Stammtisch-05.05.2026-scaled-e1776075912317.jpg
END:VEVENT
BEGIN:VEVENT
DTSTART;TZID=Europe/Vienna:20260506T160000
DTEND;TZID=Europe/Vienna:20260506T170000
DTSTAMP:20260424T134508
CREATED:20260408T143106Z
LAST-MODIFIED:20260408T143106Z
UID:8220-1778083200-1778086800@www.museumswelten-hohetauern.at
SUMMARY:Der Kasperl im Felberturm
DESCRIPTION:Der Kasperl macht wieder Halt im Pinzgau! \n „Kasperl verirrt sich“ Liebe Kinder\, jetzt braucht er dringend eure Hilfe: Gemeinsam könnt ihr Hindernisse überwinden\, knifflige Aufgaben lösen und den richtigen Weg zurückfinden. Helft dem Kasperl\, damit er sicher nach Hause kommt!\nMeldet euch jetzt an und helft dem Kasperl.\nE-Mail: felberturm@nationalparkregion.at\nEintritt: 8\,50 € pro Person
URL:https://www.museumswelten-hohetauern.at/event/der-kasperl-im-felberturm/
CATEGORIES:Felberturm Museum
ATTACH;FMTTYPE=image/jpeg:https://www.museumswelten-hohetauern.at/wp-content/uploads/2026/04/Plakat-Kasperl-06.05.2026-scaled-e1775658647482.jpg
END:VEVENT
BEGIN:VEVENT
DTSTART;TZID=Europe/Vienna:20260507T190000
DTEND;TZID=Europe/Vienna:20260507T210000
DTSTAMP:20260424T134508
CREATED:20260408T144001Z
LAST-MODIFIED:20260409T074732Z
UID:8223-1778180400-1778187600@www.museumswelten-hohetauern.at
SUMMARY:Eröffnung der Sommersaison im Felberturm
DESCRIPTION:Das Felberturm Museum Mittersill eröffnet am Donnerstag\, 7. Mai 2026\, um 19:00 Uhr die Sommersaison und lädt herzlich zum Auftakt ein.\nDie Sonderausstellung „Ein sensibler Blick zurück? – Zeitgeschichte – Mittersill 1938–1945“ wird aufgrund des anhaltenden Interesses bis Oktober 2026 verlängert. Für die neue Saison wurde sie behutsam überarbeitet und ergänzt. \nHöhepunkt des Eröffnungsabends ist ein gemeinschaftlicher Vortrag von Germanist Karl Müller\, Musikwissenschaftler Wolfgang Dreier-Andres (Archiv- und Bibliotheksleitung\, Salzburger Volksliedwerk) und Historiker Hieronymus Bitschnau (Salzburger Volkskultur) unter dem Titel:\n„Wilhelm Keller und die Rettung des Salzburger Volksliedarchivs nach 1945“.
URL:https://www.museumswelten-hohetauern.at/event/eroeffnung-der-sommersaison-im-felberturm/
CATEGORIES:Felberturm Museum
ATTACH;FMTTYPE=image/jpeg:https://www.museumswelten-hohetauern.at/wp-content/uploads/2026/04/Eroeffnung-Sommersaison-2026-scaled-e1775659162653.jpg
END:VEVENT
END:VCALENDAR