BEGIN:VCALENDAR
VERSION:2.0
PRODID:-//Museumswelten Hohe Tauern - ECPv6.15.6//NONSGML v1.0//EN
CALSCALE:GREGORIAN
METHOD:PUBLISH
X-ORIGINAL-URL:https://www.museumswelten-hohetauern.at
X-WR-CALDESC:Veranstaltungen für Museumswelten Hohe Tauern
REFRESH-INTERVAL;VALUE=DURATION:PT1H
X-Robots-Tag:noindex
X-PUBLISHED-TTL:PT1H
BEGIN:VTIMEZONE
TZID:UTC
BEGIN:STANDARD
TZOFFSETFROM:+0000
TZOFFSETTO:+0000
TZNAME:UTC
DTSTART:20190101T000000
END:STANDARD
END:VTIMEZONE
BEGIN:VEVENT
DTSTART;TZID=UTC:20200905T190000
DTEND;TZID=UTC:20200905T203000
DTSTAMP:20260426T002658
CREATED:20200902T145032Z
LAST-MODIFIED:20200902T145148Z
UID:6665-1599332400-1599337800@www.museumswelten-hohetauern.at
SUMMARY:Konzert im Samerstall Niedernsill
DESCRIPTION:Wir laden herzlich zu einem weiteren klassischen Konzert in den Samerstall nach Niedernsill ein. \nVictor Aguirre (Geige) und Cristian Gramesc (Gitarre) nehmen die ZuhörerInnen mit auf eine Reise durch Amerika. \nEintritt: € 10\,-\nAnmeldung erforderlich: Gerlinde Allmayer\, Tel: 0664-5878354\nUnter Einhaltung der geltenden Covid-19-Bestimmungen achten wir auf\nentsprechenden Abstand und Hygiene.
URL:https://www.museumswelten-hohetauern.at/event/konzert-im-samerstall-niedernsill/
LOCATION:Samerstall Niedernsill\, Kirchgasse 1\, Niedernsill\, 5722
CATEGORIES:Samerstall
ATTACH;FMTTYPE=image/jpeg:https://www.museumswelten-hohetauern.at/wp-content/uploads/2020/09/Konzert-im-Samerstall-September_A3_5sept.jpg
END:VEVENT
BEGIN:VEVENT
DTSTART;TZID=UTC:20200925T190000
DTEND;TZID=UTC:20200925T210000
DTSTAMP:20260426T002658
CREATED:20200910T091555Z
LAST-MODIFIED:20200910T091555Z
UID:6670-1601060400-1601067600@www.museumswelten-hohetauern.at
SUMMARY:33. Niedernsiller Stund - Schee oder Schiach
DESCRIPTION:Die 33. Niedernsiller Stund steht heuer unter dem Motto „schee und schiach“. Was schön/schee ist\, gefällt uns. Ist etwas hässlich\, ist es bei uns schiach. Das gefällt uns nicht. So einfach ist das. Meint man. Aber auf die Sichtweise der Betrachter\, Hörer oder Bewerter kommt es an\, ob sie etwas schee oder schiach wahrnehmen.\n\nMit ihren Gedichten\, Geschichten und Zwiegesprächen vermitteln vier Mundartschaffende ihre Sichtweise auf Schees und Schiachs:\nJulia Steiner (Piesendorf)\nCornelia Allmayer-Krieg (Lustenau)\nHeidrun Gruber (Niedernsill)\nMax Faistauer (St. Martin bei Lofer)\n\nModeration: Manfred Baumann\nMusikalische Gestaltung: Maria Gstättner und Stefan Heckel\nEhrenschutz: Dr. Heinrich Schellhorn\n\nAufgrund der derzeitigen Situation kann die 33. Niedernsiller Stund nur mit einer begrenzten Teilnehmeranzahl stattfinden. Eine Anmeldung ist daher zwingend erforderlich. Wir bitten um Verständnis!
URL:https://www.museumswelten-hohetauern.at/event/33-niedernsiller-stund-schee-oder-schiach/
LOCATION:Samerstall Niedernsill\, Kirchgasse 1\, Niedernsill\, 5722
CATEGORIES:Samerstall
ATTACH;FMTTYPE=image/jpeg:https://www.museumswelten-hohetauern.at/wp-content/uploads/2020/09/NieStund2020_titel.jpg
END:VEVENT
END:VCALENDAR