BEGIN:VCALENDAR
VERSION:2.0
PRODID:-//Museumswelten Hohe Tauern - ECPv6.15.6//NONSGML v1.0//EN
CALSCALE:GREGORIAN
METHOD:PUBLISH
X-WR-CALNAME:Museumswelten Hohe Tauern
X-ORIGINAL-URL:https://www.museumswelten-hohetauern.at
X-WR-CALDESC:Veranstaltungen für Museumswelten Hohe Tauern
REFRESH-INTERVAL;VALUE=DURATION:PT1H
X-Robots-Tag:noindex
X-PUBLISHED-TTL:PT1H
BEGIN:VTIMEZONE
TZID:Europe/Vienna
BEGIN:DAYLIGHT
TZOFFSETFROM:+0100
TZOFFSETTO:+0200
TZNAME:CEST
DTSTART:20240331T010000
END:DAYLIGHT
BEGIN:STANDARD
TZOFFSETFROM:+0200
TZOFFSETTO:+0100
TZNAME:CET
DTSTART:20241027T010000
END:STANDARD
BEGIN:DAYLIGHT
TZOFFSETFROM:+0100
TZOFFSETTO:+0200
TZNAME:CEST
DTSTART:20250330T010000
END:DAYLIGHT
BEGIN:STANDARD
TZOFFSETFROM:+0200
TZOFFSETTO:+0100
TZNAME:CET
DTSTART:20251026T010000
END:STANDARD
BEGIN:DAYLIGHT
TZOFFSETFROM:+0100
TZOFFSETTO:+0200
TZNAME:CEST
DTSTART:20260329T010000
END:DAYLIGHT
BEGIN:STANDARD
TZOFFSETFROM:+0200
TZOFFSETTO:+0100
TZNAME:CET
DTSTART:20261025T010000
END:STANDARD
END:VTIMEZONE
BEGIN:VEVENT
DTSTART;TZID=Europe/Vienna:20250201T190000
DTEND;TZID=Europe/Vienna:20250201T210000
DTSTAMP:20260425T225241
CREATED:20250131T071818Z
LAST-MODIFIED:20250131T124519Z
UID:7906-1738436400-1738443600@www.museumswelten-hohetauern.at
SUMMARY:Konzert der SymphonikerBlås
DESCRIPTION:Am 01.02. begrüßen wir gemeinsam mit Ihnen die SymphonikerBlas im Felberturm Mittersill! \nDas Ensemble SymphonikerBlås wurde 2009 von Musikern der Wiener Symphoniker gegründet\, deren musikalische Wurzeln in der österreichisch-böhmischen Blasmusiktradition liegen. \nZiel des Ensembles ist es\, diese traditionsreiche Musik\, die schon berühmte Komponisten wie Gustav Mahler\, Antonin Dvorák und Bedrich Smetana geprägt hat\, auf allerhöchstem Niveau wiederzugeben und darüber hinaus durch\, von Mitgliedern des Ensembles genial arrangierte\, virtuose Bearbeitungen bekannter Melodien neue Maßstäbe zu setzen. \nDie Verwendung einer Piccolotrompete anstelle einer Es-Klarinette ist ein Novum und macht den Sound des Ensembles unverwechselbar und einzigartig. \nKarten um 29 Euro sind unter ticket@festivalhohetauern.at oder an der Abendkassa erhältlich. \nNähere Infos: www.festivalhohetauern.at
URL:https://www.museumswelten-hohetauern.at/event/konzert-der-symphonierblas/
LOCATION:Felberturm Museum\, Museumstraße 2\, Mittersill\, Salzburg\, 5730\, Austria
CATEGORIES:Felberturm Museum
END:VEVENT
BEGIN:VEVENT
DTSTART;TZID=Europe/Vienna:20250204T190000
DTEND;TZID=Europe/Vienna:20250204T210000
DTSTAMP:20260425T225241
CREATED:20250117T135115Z
LAST-MODIFIED:20250118T113425Z
UID:7880-1738695600-1738702800@www.museumswelten-hohetauern.at
SUMMARY:Museumsstammtisch
DESCRIPTION:Der Februar-Stammtisch findet am Dienstag\, 04.02.2025 um 19 Uhr im Felberturm Museum Mittersill statt. \nDiesmal hält die Künstlerin Lavinia Lanner einen Vortrag zu „Zeichnung im Wandel der Zeit“. Vom Thema ausgehend gibt die bildende Künstlerin auch Einblicke in zeitgenössische Kunst und den Alltag als Künstlerin. \nNatürlich bleibt auch wieder Zeit für interessante Diskussionen und gegenseitigen Austausch. \nWir freuen uns auf Ihr Kommen! \n 
URL:https://www.museumswelten-hohetauern.at/event/museumsstammtisch-7/
LOCATION:Felberturm Museum\, Museumstraße 2\, Mittersill\, Salzburg\, 5730\, Austria
CATEGORIES:Felberturm Museum
END:VEVENT
BEGIN:VEVENT
DTSTART;TZID=Europe/Vienna:20250206T193000
DTEND;TZID=Europe/Vienna:20250206T213000
DTSTAMP:20260425T225241
CREATED:20250123T072618Z
LAST-MODIFIED:20250123T072700Z
UID:7892-1738870200-1738877400@www.museumswelten-hohetauern.at
SUMMARY:Der lange Weg zur Bühne
DESCRIPTION:  \nDen langen Weg zur Bühne beschritten seit 2021 Michael Großschädl\, Martin Kosch\, Paul Sommersguter und Andi Peichl. Jetzt haben sie es auch zu uns geschafft und treffen am 06. Februar um 19:30 Uhr im Samerstall Niedernsill ein. \nKartenreservierung bei Horst Klinger unter: horstklinger00@gmail.com\, Tel. +43 650 710 66 27\nPreis: 19 € \nWir freuen uns auf Ihr Kommen! \n \n 
URL:https://www.museumswelten-hohetauern.at/event/der-lange-weg-zur-buehne/
LOCATION:Samerstall Niedernsill\, Kirchgasse 1\, Niedernsill\, 5722
CATEGORIES:Norikermuseum,Samerstall
END:VEVENT
END:VCALENDAR