BEGIN:VCALENDAR
VERSION:2.0
PRODID:-//Museumswelten Hohe Tauern - ECPv6.15.6//NONSGML v1.0//EN
CALSCALE:GREGORIAN
METHOD:PUBLISH
X-ORIGINAL-URL:https://www.museumswelten-hohetauern.at
X-WR-CALDESC:Veranstaltungen für Museumswelten Hohe Tauern
REFRESH-INTERVAL;VALUE=DURATION:PT1H
X-Robots-Tag:noindex
X-PUBLISHED-TTL:PT1H
BEGIN:VTIMEZONE
TZID:Europe/Vienna
BEGIN:DAYLIGHT
TZOFFSETFROM:+0100
TZOFFSETTO:+0200
TZNAME:CEST
DTSTART:20240331T010000
END:DAYLIGHT
BEGIN:STANDARD
TZOFFSETFROM:+0200
TZOFFSETTO:+0100
TZNAME:CET
DTSTART:20241027T010000
END:STANDARD
BEGIN:DAYLIGHT
TZOFFSETFROM:+0100
TZOFFSETTO:+0200
TZNAME:CEST
DTSTART:20250330T010000
END:DAYLIGHT
BEGIN:STANDARD
TZOFFSETFROM:+0200
TZOFFSETTO:+0100
TZNAME:CET
DTSTART:20251026T010000
END:STANDARD
BEGIN:DAYLIGHT
TZOFFSETFROM:+0100
TZOFFSETTO:+0200
TZNAME:CEST
DTSTART:20260329T010000
END:DAYLIGHT
BEGIN:STANDARD
TZOFFSETFROM:+0200
TZOFFSETTO:+0100
TZNAME:CET
DTSTART:20261025T010000
END:STANDARD
END:VTIMEZONE
BEGIN:VEVENT
DTSTART;TZID=Europe/Vienna:20250311T190000
DTEND;TZID=Europe/Vienna:20250311T203000
DTSTAMP:20260426T002727
CREATED:20250131T073117Z
LAST-MODIFIED:20250219T150632Z
UID:7909-1741719600-1741725000@www.museumswelten-hohetauern.at
SUMMARY:Museumsstammtisch
DESCRIPTION:Der März-Museumsstammtisch findet am Dienstag\, 11.03.2025 statt. \nDr. Josef Seifriedsberger hält einen Vortrag zum Thema „Ein Unglücksfall wird zur Sage“. Ausgehend von einem im Sterbebuch der Pfarre Bramberg im Jahr 1847 dokumentierten Unglücks verfolgen wir den Weg zu einer Sage. \n  \nWir freuen uns\, wenn wir viele Geschichtsinteressierte bei unserem monatlichen Museumsstammtisch begrüßen zu dürfen! \n 
URL:https://www.museumswelten-hohetauern.at/event/museumsstammtisch-8/
LOCATION:Felberturm Museum\, Museumstraße 2\, Mittersill\, Salzburg\, 5730\, Austria
CATEGORIES:Felberturm Museum
END:VEVENT
BEGIN:VEVENT
DTSTART;TZID=Europe/Vienna:20250320T190000
DTEND;TZID=Europe/Vienna:20250320T210000
DTSTAMP:20260426T002727
CREATED:20250213T144415Z
LAST-MODIFIED:20250213T144415Z
UID:7923-1742497200-1742504400@www.museumswelten-hohetauern.at
SUMMARY:Vortrag: Warum sind Medien für unsere Kinder so wichtig?
DESCRIPTION:Warum sind Medien für unsere Kinder so wichtig? \nDiese und weitere Fragen rund um die Nutzung von Medien speziell bei Kindern beantwortet Nicole Bodmayer\, BA am Donnerstag\, 20. März um 19 Uhr im Samerstall Niedernsill. \nWelche Hindernisse erwarten Kinder im Internet? Was sollten Eltern wissen?\nKinder und Online-Medien – das sorgt oft für Unsicherheit. „Medienmonsterjägerin“ Nicole Bodmayer nimmt Sie mit auf eine spannende Reise durch die digitale Welt und zeigt\, wie Sie Ihre Kinder oder Enkelkinder sicher\, sinnvoll und kompetent begleiten können. \nBesonders hilfreich: Auch Mag. Andrea Buchner\, MA\, MA vom Forum Familie wird vor Ort sein\, um individuelle Fragen zu beantworten und beratend zur Seite zu stehen. \nWir freuen uns auf Ihren Besuch!
URL:https://www.museumswelten-hohetauern.at/event/vortrag-warum-sind-medien-fuer-unsere-kinder-so-wichtig/
LOCATION:Samerstall Niedernsill\, Kirchgasse 1\, Niedernsill\, 5722
CATEGORIES:Norikermuseum,Samerstall
END:VEVENT
BEGIN:VEVENT
DTSTART;TZID=Europe/Vienna:20250321T193000
DTEND;TZID=Europe/Vienna:20250321T213000
DTSTAMP:20260426T002727
CREATED:20241218T130756Z
LAST-MODIFIED:20241218T131536Z
UID:7779-1742585400-1742592600@www.museumswelten-hohetauern.at
SUMMARY:Kabarett im Felberturm mit Isabell Pannagl
DESCRIPTION:Wir freuen uns\, gemeinsam mit Ihnen Isabell Pannagl am 21.03.25 mit ihrem neuen Programm „Neues aus dem Dachgeschoss“ bei uns im Felberturm in Mittersill zu begrüßen! \n\n60.000 Gedanken macht sich der Mensch durchschnittlich am Tag. Manche sind gut\, manche nicht – aber die meisten sind vor allem eines: seltsam!\nWäre es da nicht schön auch im Alltag einen Rückzugsort zu haben\, wo das Hirn mal kurz Urlaub machen kann? Diesen hat sich Isabell in ihrem Dachgeschoss geschaffen – ihre kleine\, persönliche Karibikinsel. Doch auch dort dreht sich das Gedankenkarussell weiter\, wie eine außer Kontrolle geratene Achterbahn und wirft dabei unergründliche Fragen auf:\nWofür brauchen wir Schönheitsideale und wie gelingt mir die\nperfekte Charmehypnose?\nWas bedeutet eigentlich Work-Life-Balance?\nWie bin ich eine gute Mutter und was esse ich eigentlich morgen Mittag?\nUnd überhaupt:\nWenn ich in diesem heißen Dachgeschoss paniert einschlafe\, wache ich dann als frittiertes Schnitzel wieder auf? \nEine Antwort auf diese und viele weitere Fragen gibt’s beim Kabarett-Abend im Felberturm. \nSie haben die einmalige Chance\, die vor allem aus dem ORF bekannte Kabarettistin in kuscheliger Dachgeschoss-Atmosphäre in Mittersill zu erleben.\nKarten gibt es ab sofort unter felberturm@nationalparkregion.at. Ab Jänner sind die Karten dann auch direkt an der Kassa beim Felberturm Museum sowie beim Tourismusverband Mittersill+ erhältlich.\nEin kleiner Tipp\, wenn Sie noch auf der Suche nach einem besonderen\, humorvollen Weihnachtsgeschenk sind – ihre Liebsten freuen sich bestimmt auf einen unterhaltsamen Abend voller Lacher mit der bekannten Kabarettistin Isabell Pannagl!
URL:https://www.museumswelten-hohetauern.at/event/kabarett-im-felberturm-mit-isabell-pannagl/
LOCATION:Felberturm Museum\, Museumstraße 2\, Mittersill\, Salzburg\, 5730\, Austria
CATEGORIES:Felberturm Museum
END:VEVENT
BEGIN:VEVENT
DTSTART;TZID=Europe/Vienna:20250326T190000
DTEND;TZID=Europe/Vienna:20250326T210000
DTSTAMP:20260426T002727
CREATED:20250312T153855Z
LAST-MODIFIED:20250312T155438Z
UID:7941-1743015600-1743022800@www.museumswelten-hohetauern.at
SUMMARY:Buchpräsentation "Natürlich schlafen"
DESCRIPTION:„Natürlich schlafen“ ist für alle Menschen wichtig. Dr. Hans Gasperl hat darüber ein Buch geschrieben\, das er 26. März um 19 Uhr im Felberturm Mittersill präsentiert. \nWir bitten um Anmeldung unter mittersill@ellmauer-buch.at\nEintritt: 10 € \n  \nWir freuen uns auf Ihren Besuch! \n  \n\, \n 
URL:https://www.museumswelten-hohetauern.at/event/buchpraesentation-natuerlich-schlafen/
CATEGORIES:Felberturm Museum
END:VEVENT
BEGIN:VEVENT
DTSTART;TZID=Europe/Vienna:20250327T140000
DTEND;TZID=Europe/Vienna:20250327T170000
DTSTAMP:20260426T002727
CREATED:20250211T162854Z
LAST-MODIFIED:20250211T162854Z
UID:7916-1743084000-1743094800@www.museumswelten-hohetauern.at
SUMMARY:Informations-SeniorInnennachmittag
DESCRIPTION:  \nAm 27. März findet im Felberturm Museum Mittersill ein Informations-SeniorInnennachmittag zum Thema “Gesundheitlicher Notfall – was kann ich tun?” statt. \nUnsere Community Nurse Tabea Klausner berät Sie zu gesundheitlichen Themen vor allem im Alter.\nSie lernen\, wie Sie in kritischen Situationen richtig reagieren. Es werden grundlegende Maßnahmen bei gesundheitlichen Notfällen erläutert. \nBei Kaffee und Kuchen bleibt genügend Zeit für alle Fragen und einen gemütlichen Austausch untereinander. \nNähere Informationen erhalten Sie bei Christina Meilinger unter der Tel.: 0664 51 67 664 \nWir freuen uns auf einen interessanten und gemütlichen Nachmittag mit Ihnen! \n 
URL:https://www.museumswelten-hohetauern.at/event/informations-seniorinnennachmittag/
LOCATION:Felberturm Museum\, Museumstraße 2\, Mittersill\, Salzburg\, 5730\, Austria
CATEGORIES:Felberturm Museum
END:VEVENT
BEGIN:VEVENT
DTSTART;TZID=Europe/Vienna:20250329T190000
DTEND;TZID=Europe/Vienna:20250329T210000
DTSTAMP:20260426T002727
CREATED:20250213T143423Z
LAST-MODIFIED:20250213T143423Z
UID:7919-1743274800-1743282000@www.museumswelten-hohetauern.at
SUMMARY:Konzert Conny und die Sonntagsfahrer
DESCRIPTION:Conny und die Sonntagsfahrer besuchen uns am 29. März im Samerstall Niedernsill. \nDie vier MusikerInnen präsentieren die unvergessenen Melodien von Peter Alexander\, Caterina Valente\, Freddi Quinn und viele mehr.\nUnter dem Titel „Schön war die Zeit“ veranstalten sie einen unterhaltsamen Konzertabend. \nWir bitten um Kartenreservierung bei Horst Klinger unter E-Mail: horstklinger00@gmail.com oder Tel.: 0043 650 710 66 27 \nNähere Informationen unter: www.kulturverein-niedernsill.at
URL:https://www.museumswelten-hohetauern.at/event/konzert-conny-und-die-sonntagsfahrer/
LOCATION:Samerstall Niedernsill\, Kirchgasse 1\, Niedernsill\, 5722
CATEGORIES:Norikermuseum,Samerstall
END:VEVENT
BEGIN:VEVENT
DTSTART;TZID=Europe/Vienna:20250329T190000
DTEND;TZID=Europe/Vienna:20250329T210000
DTSTAMP:20260426T002727
CREATED:20250312T155322Z
LAST-MODIFIED:20250312T155322Z
UID:7945-1743274800-1743282000@www.museumswelten-hohetauern.at
SUMMARY:Changes
DESCRIPTION:Changes – Songs die du kennst\, Texte die du verstehst!\nErlebt einen schönen Konzertabend am Samstag\, 29.03.2025 um 19 Uhr im Felberturm Mittersill. \nReservierung unter: changes3@outlook.com \n  \nWir freuen uns\, wenn ihr mit uns Klassiker des Rock\, Popp und Jazz feiert!
URL:https://www.museumswelten-hohetauern.at/event/changes/
LOCATION:Felberturm Museum\, Museumstraße 2\, Mittersill\, Salzburg\, 5730\, Austria
CATEGORIES:Felberturm Museum
END:VEVENT
END:VCALENDAR