BEGIN:VCALENDAR
VERSION:2.0
PRODID:-//Museumswelten Hohe Tauern - ECPv6.15.6//NONSGML v1.0//EN
CALSCALE:GREGORIAN
METHOD:PUBLISH
X-WR-CALNAME:Museumswelten Hohe Tauern
X-ORIGINAL-URL:https://www.museumswelten-hohetauern.at
X-WR-CALDESC:Veranstaltungen für Museumswelten Hohe Tauern
REFRESH-INTERVAL;VALUE=DURATION:PT1H
X-Robots-Tag:noindex
X-PUBLISHED-TTL:PT1H
BEGIN:VTIMEZONE
TZID:Europe/Vienna
BEGIN:DAYLIGHT
TZOFFSETFROM:+0100
TZOFFSETTO:+0200
TZNAME:CEST
DTSTART:20240331T010000
END:DAYLIGHT
BEGIN:STANDARD
TZOFFSETFROM:+0200
TZOFFSETTO:+0100
TZNAME:CET
DTSTART:20241027T010000
END:STANDARD
BEGIN:DAYLIGHT
TZOFFSETFROM:+0100
TZOFFSETTO:+0200
TZNAME:CEST
DTSTART:20250330T010000
END:DAYLIGHT
BEGIN:STANDARD
TZOFFSETFROM:+0200
TZOFFSETTO:+0100
TZNAME:CET
DTSTART:20251026T010000
END:STANDARD
BEGIN:DAYLIGHT
TZOFFSETFROM:+0100
TZOFFSETTO:+0200
TZNAME:CEST
DTSTART:20260329T010000
END:DAYLIGHT
BEGIN:STANDARD
TZOFFSETFROM:+0200
TZOFFSETTO:+0100
TZNAME:CET
DTSTART:20261025T010000
END:STANDARD
END:VTIMEZONE
BEGIN:VEVENT
DTSTART;TZID=Europe/Vienna:20250402T190000
DTEND;TZID=Europe/Vienna:20250402T210000
DTSTAMP:20260426T020333
CREATED:20250325T102425Z
LAST-MODIFIED:20250325T102425Z
UID:7953-1743620400-1743627600@www.museumswelten-hohetauern.at
SUMMARY:Museumsstammtisch
DESCRIPTION:Diesmal findet der Museumsstammtisch am MITTWOCH\, 02. April 2025 statt! \nDer Pinzgauer Musiker Erwin Wieser erzählt von Sängern und Musikern im Pinzgau. Erleben Sie eine kleine\, historische Rundschau. \nWir freuen uns auf Ihr Kommen! \n 
URL:https://www.museumswelten-hohetauern.at/event/museumsstammtisch-9/
LOCATION:Felberturm Museum\, Museumstraße 2\, Mittersill\, Salzburg\, 5730\, Austria
CATEGORIES:Felberturm Museum
END:VEVENT
BEGIN:VEVENT
DTSTART;TZID=Europe/Vienna:20250405T110000
DTEND;TZID=Europe/Vienna:20250405T160000
DTSTAMP:20260426T020333
CREATED:20250131T073624Z
LAST-MODIFIED:20250312T162003Z
UID:7912-1743850800-1743868800@www.museumswelten-hohetauern.at
SUMMARY:Ostermarkt
DESCRIPTION:Der traditionelle Ostermarkt findet am Samstag\, 05.04.2025 statt! \nVon 11 bis 16 Uhr erwarten euch die Standlerinnen und Standler mit tollen selbstgemachten Produkten – es ist für jeden etwas dabei. \nAusstellerverzeichnis:\nBY:U\, HolzBetonSchuh\, Frauenschuh Sandra\, Ulrike Winding\, Felphi\, Fadenzauber\, Silke’s Geschenkewelt\, Street life Art\, Kreativ by Dani\, Backstube Birgit Stotter\, Nähpoesie\, Peter Rattensberger\, Mivita Bio Aloe Vera\, Sunnseit Alpakas\, Oberfilzbach Hof\, Rieplerhof\, Alpinus\, Eder Elfi \nWie jedes Jahr gibt es mit Elfi Eder wieder ein Palmbuschenbinden für Kinder. Kosten: 7 €\nDer Ostermarkt findet bei jedem Wetter statt. \nWir freuen uns auf euer Kommen! \n 
URL:https://www.museumswelten-hohetauern.at/event/ostermarkt-3/
LOCATION:Felberturm Museum\, Museumstraße 2\, Mittersill\, Salzburg\, 5730\, Austria
CATEGORIES:Felberturm Museum
END:VEVENT
BEGIN:VEVENT
DTSTART;TZID=Europe/Vienna:20250425T193000
DTEND;TZID=Europe/Vienna:20250425T213000
DTSTAMP:20260426T020333
CREATED:20250412T124550Z
LAST-MODIFIED:20250412T125052Z
UID:7965-1745609400-1745616600@www.museumswelten-hohetauern.at
SUMMARY:Konzert: Constanze Quartett
DESCRIPTION:Am Freitag\, dem 25. April findet im Samerstall Niedernsill ein Konzert des Constanze Quartetts statt. \nEmelie Pierre Larsen (Violine)\, Sara Mayer (Violine)\, Hana Hobiger (Viola) & Julia Ammerer-Simma (Violoncello) entführen Sie in die Welt der Klassik von Mozart\, von Webenau und Dvorak. \nWir bitten um Kartenreservierung bei Horst Klinger:\nE-Mail: horstklinger00@gmail.com\nTel.: 0043 650 710 66 27 \nEintritt: 19 € \nWir freuen uns auf einen schönen Konzertabend mit Ihnen!
URL:https://www.museumswelten-hohetauern.at/event/konzert-constanze-quartett/
LOCATION:Samerstall Niedernsill\, Kirchgasse 1\, Niedernsill\, 5722
CATEGORIES:Norikermuseum,Samerstall
END:VEVENT
END:VCALENDAR