BEGIN:VCALENDAR
VERSION:2.0
PRODID:-//Museumswelten Hohe Tauern - ECPv6.15.6//NONSGML v1.0//EN
CALSCALE:GREGORIAN
METHOD:PUBLISH
X-ORIGINAL-URL:https://www.museumswelten-hohetauern.at
X-WR-CALDESC:Veranstaltungen für Museumswelten Hohe Tauern
REFRESH-INTERVAL;VALUE=DURATION:PT1H
X-Robots-Tag:noindex
X-PUBLISHED-TTL:PT1H
BEGIN:VTIMEZONE
TZID:Europe/Vienna
BEGIN:DAYLIGHT
TZOFFSETFROM:+0100
TZOFFSETTO:+0200
TZNAME:CEST
DTSTART:20240331T010000
END:DAYLIGHT
BEGIN:STANDARD
TZOFFSETFROM:+0200
TZOFFSETTO:+0100
TZNAME:CET
DTSTART:20241027T010000
END:STANDARD
BEGIN:DAYLIGHT
TZOFFSETFROM:+0100
TZOFFSETTO:+0200
TZNAME:CEST
DTSTART:20250330T010000
END:DAYLIGHT
BEGIN:STANDARD
TZOFFSETFROM:+0200
TZOFFSETTO:+0100
TZNAME:CET
DTSTART:20251026T010000
END:STANDARD
BEGIN:DAYLIGHT
TZOFFSETFROM:+0100
TZOFFSETTO:+0200
TZNAME:CEST
DTSTART:20260329T010000
END:DAYLIGHT
BEGIN:STANDARD
TZOFFSETFROM:+0200
TZOFFSETTO:+0100
TZNAME:CET
DTSTART:20261025T010000
END:STANDARD
END:VTIMEZONE
BEGIN:VEVENT
DTSTART;TZID=Europe/Vienna:20250603T190000
DTEND;TZID=Europe/Vienna:20250603T210000
DTSTAMP:20260426T052035
CREATED:20250525T171210Z
LAST-MODIFIED:20250525T171210Z
UID:7993-1748977200-1748984400@www.museumswelten-hohetauern.at
SUMMARY:Museumsstammtisch
DESCRIPTION:Der nächste Museumsstammtisch findet am 03. Juni um 19 Uhr im Felberturm Museum Mittersill statt. \n\n\nWalter Reifmüller hält einen Vortrag über „Christliche Symbole in der Landschaft“ \n\n\n \n\n\nDas Stadtarchiv Mittersill und wir freuen uns auf Ihr Kommen und einen spannenden Austausch!
URL:https://www.museumswelten-hohetauern.at/event/museumsstammtisch-11/
LOCATION:Felberturm Museum\, Museumstraße 2\, Mittersill\, Salzburg\, 5730\, Austria
CATEGORIES:Felberturm Museum
END:VEVENT
BEGIN:VEVENT
DTSTART;TZID=Europe/Vienna:20250624T190000
DTEND;TZID=Europe/Vienna:20250624T220000
DTSTAMP:20260426T052035
CREATED:20250526T132946Z
LAST-MODIFIED:20250526T132946Z
UID:7997-1750791600-1750802400@www.museumswelten-hohetauern.at
SUMMARY:Sonderausstellung "ein sensibler Blick - zurück"
DESCRIPTION:Über die Sommermonate findet wieder eine Sonderausstellung im Felberturm Museum statt! \n„Ein sensibler Blick – zurück“ blickt auf die Mittersiller Geschichte zwischen 1938 und 1945. \nWir laden Sie herzlich zur Eröffnung dieser Sonderausstellung\, am 24. Juni 2025 um 19 Uhr ins Felberturm Museum ein. Nach der Begrüßung und einem kleinen Umtrunk gibt es eine feierliche Eröffnung und Führung der neuen Sonderausstellung. \nDer Eintritt ist frei. \nWir freuen uns auf Ihr Kommen! \n 
URL:https://www.museumswelten-hohetauern.at/event/sonderausstellung-ein-sensibler-blick-zurueck/
LOCATION:Felberturm Museum\, Museumstraße 2\, Mittersill\, Salzburg\, 5730\, Austria
CATEGORIES:Felberturm Museum
END:VEVENT
END:VCALENDAR